BEGIN:VCALENDAR
VERSION:2.0
PRODID:-//jEvents 2.0 for Joomla//EN
CALSCALE:GREGORIAN
METHOD:PUBLISH
BEGIN:VTIMEZONE
TZID:Europe/Zurich
BEGIN:STANDARD
DTSTART:20240105T170000
RDATE:20240331T030000
TZOFFSETFROM:+0200
TZOFFSETTO:+0100
TZNAME:Europe/Zurich CET
END:STANDARD
BEGIN:STANDARD
DTSTART:20241027T020000
RDATE:20250330T030000
TZOFFSETFROM:+0200
TZOFFSETTO:+0100
TZNAME:Europe/Zurich CET
END:STANDARD
BEGIN:STANDARD
DTSTART:20251026T020000
RDATE:20260329T030000
TZOFFSETFROM:+0200
TZOFFSETTO:+0100
TZNAME:Europe/Zurich CET
END:STANDARD
BEGIN:STANDARD
DTSTART:20261025T020000
RDATE:20270328T030000
TZOFFSETFROM:+0200
TZOFFSETTO:+0100
TZNAME:Europe/Zurich CET
END:STANDARD
BEGIN:STANDARD
DTSTART:20271031T020000
RDATE:20280326T030000
TZOFFSETFROM:+0200
TZOFFSETTO:+0100
TZNAME:Europe/Zurich CET
END:STANDARD
BEGIN:STANDARD
DTSTART:20281029T020000
RDATE:20290325T030000
TZOFFSETFROM:+0200
TZOFFSETTO:+0100
TZNAME:Europe/Zurich CET
END:STANDARD
BEGIN:STANDARD
DTSTART:20291028T020000
RDATE:20300331T030000
TZOFFSETFROM:+0200
TZOFFSETTO:+0100
TZNAME:Europe/Zurich CET
END:STANDARD
BEGIN:STANDARD
DTSTART:20301027T020000
RDATE:20310330T030000
TZOFFSETFROM:+0200
TZOFFSETTO:+0100
TZNAME:Europe/Zurich CET
END:STANDARD
BEGIN:STANDARD
DTSTART:20311026T020000
RDATE:20320328T030000
TZOFFSETFROM:+0200
TZOFFSETTO:+0100
TZNAME:Europe/Zurich CET
END:STANDARD
BEGIN:DAYLIGHT
DTSTART:20240331T030000
RDATE:20241027T020000
TZOFFSETFROM:+0100
TZOFFSETTO:+0200
TZNAME:Europe/Zurich CEST
END:DAYLIGHT
BEGIN:DAYLIGHT
DTSTART:20250330T030000
RDATE:20251026T020000
TZOFFSETFROM:+0100
TZOFFSETTO:+0200
TZNAME:Europe/Zurich CEST
END:DAYLIGHT
BEGIN:DAYLIGHT
DTSTART:20260329T030000
RDATE:20261025T020000
TZOFFSETFROM:+0100
TZOFFSETTO:+0200
TZNAME:Europe/Zurich CEST
END:DAYLIGHT
BEGIN:DAYLIGHT
DTSTART:20270328T030000
RDATE:20271031T020000
TZOFFSETFROM:+0100
TZOFFSETTO:+0200
TZNAME:Europe/Zurich CEST
END:DAYLIGHT
BEGIN:DAYLIGHT
DTSTART:20280326T030000
RDATE:20281029T020000
TZOFFSETFROM:+0100
TZOFFSETTO:+0200
TZNAME:Europe/Zurich CEST
END:DAYLIGHT
BEGIN:DAYLIGHT
DTSTART:20290325T030000
RDATE:20291028T020000
TZOFFSETFROM:+0100
TZOFFSETTO:+0200
TZNAME:Europe/Zurich CEST
END:DAYLIGHT
BEGIN:DAYLIGHT
DTSTART:20300331T030000
RDATE:20301027T020000
TZOFFSETFROM:+0100
TZOFFSETTO:+0200
TZNAME:Europe/Zurich CEST
END:DAYLIGHT
BEGIN:DAYLIGHT
DTSTART:20310330T030000
RDATE:20311026T020000
TZOFFSETFROM:+0100
TZOFFSETTO:+0200
TZNAME:Europe/Zurich CEST
END:DAYLIGHT
END:VTIMEZONE
BEGIN:VEVENT
UID:ce5282c718721b57e7f9259588b10ebe
CATEGORIES:Concerts
CREATED:20240730T092302
SUMMARY:Motets de Bach
LOCATION:Cathédrale de Sion
DESCRIPTION:Les motets de Bach comptent parmi les œuvres les plus abouties du composite
 ur, mais ils n’ont pas grand-chose à voir avec la tradition du motet en All
 emagne. En réalité, contre toute attente, ils n’ont pas fait l’objet d’une 
 pléthore d’ouvrages et d’analyses : on parle des motets qui ont précédé ceu
 x de Bach, de ceux qui leur ont succédé, mais ceux du Cantor de Leipzig res
 tent un peu à part, comme sur un piédestal. On les admire, on se laisse éme
 rveiller par leur architecture sans trop oser les commenter.\nLeur programm
 ation pose dès lors un défi de taille : l’intensité de chacun est telle que
  l’auditeur a besoin de récupérer et de reprendre sa respiration lorsque le
  dernier accord résonne. On ne peut donc pas juste les enchaîner, sans crai
 ndre la surabondance. Il s’agit d’imaginer un espace entre les motets qui p
 ermette de reprendre haleine.\nLe chœur Novantiqua de Sion s’est ainsi asso
 cié à la musicienne polyvalente Stéphanie Gurga pour relever ce défi. Compo
 sitrice en musique électronique, elle fait résonner le matériau sonore des 
 motets afin de créer un liant entre eux et de permettre à l’auditeur de ren
 ouveler sa réceptivité, offrant ainsi une lecture renouvelée et contemporai
 ne de ces œuvres magistrales.\nProgramme\nJohann Sebastian Bach (1685-1750)
 \nKomm, Jesu komm, BWV 229\n Singet dem Herrn ein neues Lied, BWV 225\n Jes
 u, meine Freude, BWV 227\n Fürchte dich nicht, BWV 228\n Ich lasse dich nic
 ht, BWV Anh. 159\nConcert organisé par le Festival d'art sacré de Sion (htt
 ps://maitrise-cathedrale.ch/festival-dart-sacre/).\nBilletterie : <a href="
 https://www.booking-corner.com/cmsscripts/bookOnline.aspx?lang=fr&amp;eco=c
 athedralesion&amp;num=6395" target="_blank" rel="noopener noreferrer">www.b
 ooking-corner.com</a>\n
X-ALT-DESC;FMTTYPE=text/html:<p>Les motets de Bach comptent parmi les œuvres les plus abouties du compos
 iteur, mais ils n’ont pas grand-chose à voir avec la tradition du motet en 
 Allemagne. En réalité, contre toute attente, ils n’ont pas fait l’objet d’u
 ne pléthore d’ouvrages et d’analyses : on parle des motets qui ont précédé 
 ceux de Bach, de ceux qui leur ont succédé, mais ceux du Cantor de Leipzig 
 restent un peu à part, comme sur un piédestal. On les admire, on se laisse 
 émerveiller par leur architecture sans trop oser les commenter.</p><p>Leur 
 programmation pose dès lors un défi de taille : l’intensité de chacun est t
 elle que l’auditeur a besoin de récupérer et de reprendre sa respiration lo
 rsque le dernier accord résonne. On ne peut donc pas juste les enchaîner, s
 ans craindre la surabondance. Il s’agit d’imaginer un espace entre les mote
 ts qui permette de reprendre haleine.</p><p>Le chœur Novantiqua de Sion s’e
 st ainsi associé à la musicienne polyvalente Stéphanie Gurga pour relever c
 e défi. Compositrice en musique électronique, elle fait résonner le matéria
 u sonore des motets afin de créer un liant entre eux et de permettre à l’au
 diteur de renouveler sa réceptivité, offrant ainsi une lecture renouvelée e
 t contemporaine de ces œuvres magistrales.</p><hr /><p><strong><em>Programm
 e</em></strong></p><p><strong><em>Johann Sebastian Bach (1685-1750)</em></s
 trong></p><p><em>Komm, Jesu komm, BWV 229<br /> Singet dem Herrn ein neues 
 Lied, BWV 225<br /> Jesu, meine Freude, BWV 227<br /> Fürchte dich nicht, B
 WV 228<br /> Ich lasse dich nicht, BWV Anh. 159</em></p><hr /><p><strong>Co
 ncert organisé par le <a href="https://maitrise-cathedrale.ch/festival-dart
 -sacre/" target="_blank" rel="noopener noreferrer">Festival d'art sacré de 
 Sion</a>.</strong></p><p><strong>Billetterie : <a href="https://www.booking
 -corner.com/cmsscripts/bookOnline.aspx?lang=fr&amp;eco=cathedralesion&amp;n
 um=6395" target="_blank" rel="noopener noreferrer">www.booking-corner.com</
 a></strong></p>
DTSTAMP:20260420T144231
DTSTART;TZID=Europe/Zurich:20250105T170000
DTEND;TZID=Europe/Zurich:20250105T181500
SEQUENCE:0
TRANSP:OPAQUE
END:VEVENT
END:VCALENDAR